Package: sparrow Version: 1.15.0 Command: /home/biocbuild/bbs-3.22-bioc/R/bin/R CMD build --keep-empty-dirs --no-resave-data --md5 sparrow StartedAt: 2025-10-27 20:12:54 -0400 (Mon, 27 Oct 2025) EndedAt: 2025-10-27 20:14:57 -0400 (Mon, 27 Oct 2025) EllapsedTime: 123.1 seconds RetCode: 0 Status: OK PackageFile: sparrow_1.15.0.tar.gz PackageFileSize: 4.142 MiB