Package: sparrow Version: 1.16.0 Command: /Library/Frameworks/R.framework/Resources/bin/R CMD INSTALL sparrow StartedAt: 2025-11-10 15:09:41 -0500 (Mon, 10 Nov 2025) EndedAt: 2025-11-10 15:09:53 -0500 (Mon, 10 Nov 2025) EllapsedTime: 12.3 seconds RetCode: 0 Status: OK