Package: sparrow Version: 1.16.0 Command: /Library/Frameworks/R.framework/Resources/bin/R CMD build --keep-empty-dirs --no-resave-data sparrow StartedAt: 2025-11-10 17:50:00 -0500 (Mon, 10 Nov 2025) EndedAt: 2025-11-10 17:50:52 -0500 (Mon, 10 Nov 2025) EllapsedTime: 52.6 seconds RetCode: 0 Status: OK PackageFile: sparrow_1.16.0.tar.gz PackageFileSize: 4.134 MiB