Package: sparrow Version: 1.16.0 Command: rm -rf sparrow.buildbin-libdir && mkdir sparrow.buildbin-libdir && /Users/biocbuild/BBS/utils/build-universal.sh sparrow_1.16.0.tar.gz /Library/Frameworks/R.framework/Resources/bin/R sparrow.buildbin-libdir StartedAt: 2025-11-10 23:37:48 -0500 (Mon, 10 Nov 2025) EndedAt: 2025-11-10 23:38:02 -0500 (Mon, 10 Nov 2025) EllapsedTime: 14.2 seconds RetCode: 0 Status: OK PackageFile: sparrow_1.16.0.tgz PackageFileSize: 4.575 MiB