Package: spacexr Version: 1.1.1 Command: /home/biocbuild/bbs-3.22-bioc/R/bin/R CMD build --keep-empty-dirs --no-resave-data --md5 spacexr StartedAt: 2025-10-24 20:20:04 -0400 (Fri, 24 Oct 2025) EndedAt: 2025-10-24 20:21:40 -0400 (Fri, 24 Oct 2025) EllapsedTime: 96.0 seconds RetCode: 0 Status: OK PackageFile: spacexr_1.1.1.tar.gz PackageFileSize: 432.6 KiB