Package: spacexr Version: 1.1.1 Command: /Library/Frameworks/R.framework/Resources/bin/R CMD INSTALL spacexr StartedAt: 2025-10-24 15:15:25 -0400 (Fri, 24 Oct 2025) EndedAt: 2025-10-24 15:15:37 -0400 (Fri, 24 Oct 2025) EllapsedTime: 12.2 seconds RetCode: 0 Status: OK