Package: spacexr Version: 1.1.1 Command: /Library/Frameworks/R.framework/Resources/bin/R CMD build --keep-empty-dirs --no-resave-data spacexr StartedAt: 2025-10-24 17:49:04 -0400 (Fri, 24 Oct 2025) EndedAt: 2025-10-24 17:49:46 -0400 (Fri, 24 Oct 2025) EllapsedTime: 42.4 seconds RetCode: 0 Status: OK PackageFile: spacexr_1.1.1.tar.gz PackageFileSize: 482.9 KiB