Package: spaSim Version: 1.11.0 Command: /home/biocbuild/bbs-3.22-bioc/R/bin/R CMD INSTALL spaSim StartedAt: 2025-10-24 15:43:12 -0400 (Fri, 24 Oct 2025) EndedAt: 2025-10-24 15:43:37 -0400 (Fri, 24 Oct 2025) EllapsedTime: 25.0 seconds RetCode: 0 Status: OK