Package: spaSim Version: 1.11.0 Command: /home/biocbuild/bbs-3.22-bioc/R/bin/R CMD build --keep-empty-dirs --no-resave-data --md5 spaSim StartedAt: 2025-10-24 20:21:54 -0400 (Fri, 24 Oct 2025) EndedAt: 2025-10-24 20:23:35 -0400 (Fri, 24 Oct 2025) EllapsedTime: 101.1 seconds RetCode: 0 Status: OK PackageFile: spaSim_1.11.0.tar.gz PackageFileSize: 3.551 MiB