Package: spARI Version: 0.99.17 Command: /home/biocbuild/bbs-3.22-bioc/R/bin/R CMD INSTALL spARI StartedAt: 2025-10-24 15:31:31 -0400 (Fri, 24 Oct 2025) EndedAt: 2025-10-24 15:31:58 -0400 (Fri, 24 Oct 2025) EllapsedTime: 27.5 seconds RetCode: 0 Status: OK