Package: spARI Version: 0.99.17 Command: /home/biocbuild/bbs-3.22-bioc/R/bin/R CMD build --keep-empty-dirs --no-resave-data --md5 spARI StartedAt: 2025-10-24 20:20:42 -0400 (Fri, 24 Oct 2025) EndedAt: 2025-10-24 20:21:54 -0400 (Fri, 24 Oct 2025) EllapsedTime: 72.0 seconds RetCode: 0 Status: OK PackageFile: spARI_0.99.17.tar.gz PackageFileSize: 301.5 KiB