Package: soGGi Version: 1.41.2 Command: /home/biocbuild/bbs-3.22-bioc/R/bin/R CMD build --keep-empty-dirs --no-resave-data --md5 soGGi StartedAt: 2025-10-24 20:19:24 -0400 (Fri, 24 Oct 2025) EndedAt: 2025-10-24 20:20:42 -0400 (Fri, 24 Oct 2025) EllapsedTime: 78.1 seconds RetCode: 0 Status: OK PackageFile: soGGi_1.41.2.tar.gz PackageFileSize: 3.37 MiB