Package: snpStats Version: 1.59.2 Command: /home/biocbuild/bbs-3.22-bioc/R/bin/R CMD INSTALL snpStats StartedAt: 2025-10-24 15:22:28 -0400 (Fri, 24 Oct 2025) EndedAt: 2025-10-24 15:22:45 -0400 (Fri, 24 Oct 2025) EllapsedTime: 16.6 seconds RetCode: 0 Status: OK