Package: snpStats Version: 1.59.2 Command: /home/biocbuild/bbs-3.22-bioc/R/bin/R CMD build --keep-empty-dirs --no-resave-data --md5 snpStats StartedAt: 2025-10-24 20:19:14 -0400 (Fri, 24 Oct 2025) EndedAt: 2025-10-24 20:20:18 -0400 (Fri, 24 Oct 2025) EllapsedTime: 64.1 seconds RetCode: 0 Status: OK PackageFile: snpStats_1.59.2.tar.gz PackageFileSize: 7.736 MiB