Package: snm Version: 1.57.0 Command: /home/biocbuild/bbs-3.22-bioc/R/bin/R CMD INSTALL snm StartedAt: 2025-10-24 15:16:47 -0400 (Fri, 24 Oct 2025) EndedAt: 2025-10-24 15:17:22 -0400 (Fri, 24 Oct 2025) EllapsedTime: 35.1 seconds RetCode: 0 Status: OK