Package: snm Version: 1.57.0 Command: /home/biocbuild/bbs-3.22-bioc/R/bin/R CMD build --keep-empty-dirs --no-resave-data --md5 snm StartedAt: 2025-10-27 20:11:03 -0400 (Mon, 27 Oct 2025) EndedAt: 2025-10-27 20:12:54 -0400 (Mon, 27 Oct 2025) EllapsedTime: 111.1 seconds RetCode: 0 Status: OK PackageFile: snm_1.57.0.tar.gz PackageFileSize: 729.3 KiB