Package: snapcount Version: 1.21.0 Command: /home/biocbuild/bbs-3.22-bioc/R/bin/R CMD INSTALL snapcount StartedAt: 2025-10-24 15:41:02 -0400 (Fri, 24 Oct 2025) EndedAt: 2025-10-24 15:41:28 -0400 (Fri, 24 Oct 2025) EllapsedTime: 26.2 seconds RetCode: 0 Status: OK