Package: smoothclust Version: 1.5.7 Command: /home/biocbuild/R/R/bin/R CMD INSTALL smoothclust StartedAt: 2025-10-23 20:45:34 -0000 (Thu, 23 Oct 2025) EndedAt: 2025-10-23 20:46:03 -0000 (Thu, 23 Oct 2025) EllapsedTime: 28.5 seconds RetCode: 0 Status: OK