Package: smoothclust Version: 1.5.7 Command: /home/biocbuild/R/R/bin/R CMD build --keep-empty-dirs --no-resave-data smoothclust StartedAt: 2025-10-21 03:16:13 -0000 (Tue, 21 Oct 2025) EndedAt: 2025-10-21 03:17:40 -0000 (Tue, 21 Oct 2025) EllapsedTime: 87.0 seconds RetCode: 0 Status: OK PackageFile: smoothclust_1.5.7.tar.gz PackageFileSize: 397 KiB