Package: smoothclust Version: 1.5.7 Command: /home/biocbuild/bbs-3.22-bioc/R/bin/R CMD check --install=check:smoothclust.install-out.txt --library=/home/biocbuild/bbs-3.22-bioc/R/site-library --timings smoothclust_1.5.7.tar.gz StartedAt: 2025-10-28 04:17:02 -0400 (Tue, 28 Oct 2025) EndedAt: 2025-10-28 04:22:03 -0400 (Tue, 28 Oct 2025) EllapsedTime: 301.2 seconds RetCode: 0 Status: OK CheckDir: smoothclust.Rcheck Warnings: 0