Package: smoothclust Version: 1.5.7 Command: /Library/Frameworks/R.framework/Resources/bin/R CMD INSTALL smoothclust StartedAt: 2025-10-27 15:24:50 -0400 (Mon, 27 Oct 2025) EndedAt: 2025-10-27 15:25:20 -0400 (Mon, 27 Oct 2025) EllapsedTime: 30.5 seconds RetCode: 0 Status: OK