Package: smoothclust Version: 1.5.7 Command: rm -rf smoothclust.buildbin-libdir && mkdir smoothclust.buildbin-libdir && /Users/biocbuild/BBS/utils/build-universal.sh smoothclust_1.5.7.tar.gz /Library/Frameworks/R.framework/Resources/bin/R smoothclust.buildbin-libdir StartedAt: 2025-10-28 02:37:12 -0400 (Tue, 28 Oct 2025) EndedAt: 2025-10-28 02:37:45 -0400 (Tue, 28 Oct 2025) EllapsedTime: 33.4 seconds RetCode: 0 Status: OK PackageFile: smoothclust_1.5.7.tgz PackageFileSize: 865.7 KiB