Package: smoothclust Version: 1.5.7 Maintainer: Lukas M. Weber MaintainerEmail: lmweb012 at gmail.com git_url: https://git.bioconductor.org/packages/smoothclust git_branch: devel git_last_commit: bccbce4 git_last_commit_date: 2025-09-15 15:26:25 -0400 (Mon, 15 Sep 2025)