Package: sketchR Version: 1.5.2 Command: /home/biocbuild/R/R/bin/R CMD INSTALL sketchR StartedAt: 2025-10-23 20:35:12 -0000 (Thu, 23 Oct 2025) EndedAt: 2025-10-23 20:35:33 -0000 (Thu, 23 Oct 2025) EllapsedTime: 21.0 seconds RetCode: 0 Status: OK