Package: sketchR Version: 1.5.2 Command: /home/biocbuild/R/R/bin/R CMD build --keep-empty-dirs --no-resave-data sketchR StartedAt: 2025-10-21 03:15:11 -0000 (Tue, 21 Oct 2025) EndedAt: 2025-10-21 03:19:47 -0000 (Tue, 21 Oct 2025) EllapsedTime: 276.1 seconds RetCode: 0 Status: OK PackageFile: sketchR_1.5.2.tar.gz PackageFileSize: 1.224 MiB