Package: sketchR Version: 1.5.2 Command: /home/biocbuild/bbs-3.22-bioc/R/bin/R CMD check --install=check:sketchR.install-out.txt --library=/home/biocbuild/bbs-3.22-bioc/R/site-library --timings sketchR_1.5.2.tar.gz StartedAt: 2025-10-25 04:17:52 -0400 (Sat, 25 Oct 2025) EndedAt: 2025-10-25 04:23:43 -0400 (Sat, 25 Oct 2025) EllapsedTime: 351.3 seconds RetCode: 0 Status: OK CheckDir: sketchR.Rcheck Warnings: 0