Package: sketchR Version: 1.5.2 Command: /home/biocbuild/bbs-3.22-bioc/R/bin/R CMD build --keep-empty-dirs --no-resave-data --md5 sketchR StartedAt: 2025-10-24 20:17:31 -0400 (Fri, 24 Oct 2025) EndedAt: 2025-10-24 20:20:46 -0400 (Fri, 24 Oct 2025) EllapsedTime: 195.2 seconds RetCode: 0 Status: OK PackageFile: sketchR_1.5.2.tar.gz PackageFileSize: 2.293 MiB