Package: sketchR Version: 1.5.2 Command: /Library/Frameworks/R.framework/Resources/bin/R CMD INSTALL sketchR StartedAt: 2025-10-24 15:25:54 -0400 (Fri, 24 Oct 2025) EndedAt: 2025-10-24 15:26:24 -0400 (Fri, 24 Oct 2025) EllapsedTime: 30.5 seconds RetCode: 0 Status: OK