Package: sizepower Version: 1.80.0 Command: /home/biocbuild/bbs-3.22-bioc/R/bin/R CMD INSTALL sizepower StartedAt: 2025-11-02 15:08:34 -0500 (Sun, 02 Nov 2025) EndedAt: 2025-11-02 15:08:39 -0500 (Sun, 02 Nov 2025) EllapsedTime: 4.9 seconds RetCode: 0 Status: OK