Package: sizepower Version: 1.80.0 Command: /home/biocbuild/bbs-3.22-bioc/R/bin/R CMD build --keep-empty-dirs --no-resave-data --md5 sizepower StartedAt: 2025-11-02 20:24:36 -0500 (Sun, 02 Nov 2025) EndedAt: 2025-11-02 20:24:41 -0500 (Sun, 02 Nov 2025) EllapsedTime: 5.0 seconds RetCode: 0 Status: OK PackageFile: sizepower_1.80.0.tar.gz PackageFileSize: 296.2 KiB