Package: singleCellTK Version: 2.19.2 Command: /home/biocbuild/bbs-3.22-bioc/R/bin/R CMD INSTALL singleCellTK StartedAt: 2025-10-24 16:06:50 -0400 (Fri, 24 Oct 2025) EndedAt: 2025-10-24 16:07:32 -0400 (Fri, 24 Oct 2025) EllapsedTime: 41.9 seconds RetCode: 0 Status: OK