Package: sincell Version: 1.41.0 Command: /home/biocbuild/bbs-3.22-bioc/R/bin/R CMD INSTALL sincell StartedAt: 2025-10-24 15:18:12 -0400 (Fri, 24 Oct 2025) EndedAt: 2025-10-24 15:18:41 -0400 (Fri, 24 Oct 2025) EllapsedTime: 29.0 seconds RetCode: 0 Status: OK