Package: simplifyEnrichment Version: 2.4.0 Command: /home/biocbuild/bbs-3.22-bioc/R/bin/R CMD check --install=check:simplifyEnrichment.install-out.txt --library=/home/biocbuild/bbs-3.22-bioc/R/site-library --timings simplifyEnrichment_2.4.0.tar.gz StartedAt: 2025-11-07 04:06:49 -0500 (Fri, 07 Nov 2025) EndedAt: 2025-11-07 04:09:16 -0500 (Fri, 07 Nov 2025) EllapsedTime: 147.1 seconds RetCode: 0 Status: OK CheckDir: simplifyEnrichment.Rcheck Warnings: 0