Package: simplifyEnrichment Version: 2.3.0 Command: /Library/Frameworks/R.framework/Resources/bin/R CMD INSTALL simplifyEnrichment StartedAt: 2025-10-24 15:42:31 -0400 (Fri, 24 Oct 2025) EndedAt: 2025-10-24 15:42:56 -0400 (Fri, 24 Oct 2025) EllapsedTime: 25.1 seconds RetCode: 0 Status: OK