Package: simplifyEnrichment Version: 2.3.0 Command: /Library/Frameworks/R.framework/Resources/bin/R CMD build --keep-empty-dirs --no-resave-data simplifyEnrichment StartedAt: 2025-10-24 18:48:43 -0400 (Fri, 24 Oct 2025) EndedAt: 2025-10-24 18:49:07 -0400 (Fri, 24 Oct 2025) EllapsedTime: 23.9 seconds RetCode: 0 Status: OK PackageFile: simplifyEnrichment_2.3.0.tar.gz PackageFileSize: 1.025 MiB