Package: simplifyEnrichment Version: 2.3.0 Command: rm -rf simplifyEnrichment.buildbin-libdir && mkdir simplifyEnrichment.buildbin-libdir && /Users/biocbuild/BBS/utils/build-universal.sh simplifyEnrichment_2.3.0.tar.gz /Library/Frameworks/R.framework/Resources/bin/R simplifyEnrichment.buildbin-libdir StartedAt: 2025-10-25 02:04:58 -0400 (Sat, 25 Oct 2025) EndedAt: 2025-10-25 02:05:26 -0400 (Sat, 25 Oct 2025) EllapsedTime: 27.7 seconds RetCode: 0 Status: OK PackageFile: simplifyEnrichment_2.3.0.tgz PackageFileSize: 1.525 MiB