Package: simplifyEnrichment Version: 2.3.0 Command: /Library/Frameworks/R.framework/Resources/bin/R CMD INSTALL simplifyEnrichment StartedAt: 2025-10-24 15:27:48 -0400 (Fri, 24 Oct 2025) EndedAt: 2025-10-24 15:27:56 -0400 (Fri, 24 Oct 2025) EllapsedTime: 7.4 seconds RetCode: 0 Status: OK