Package: simplifyEnrichment Version: 2.3.0 Command: rm -rf simplifyEnrichment.buildbin-libdir && mkdir simplifyEnrichment.buildbin-libdir && /Users/biocbuild/BBS/utils/build-universal.sh simplifyEnrichment_2.3.0.tar.gz /Library/Frameworks/R.framework/Resources/bin/R simplifyEnrichment.buildbin-libdir StartedAt: 2025-10-24 23:20:11 -0400 (Fri, 24 Oct 2025) EndedAt: 2025-10-24 23:20:19 -0400 (Fri, 24 Oct 2025) EllapsedTime: 8.1 seconds RetCode: 0 Status: OK PackageFile: simplifyEnrichment_2.3.0.tgz PackageFileSize: 1.526 MiB