Package: simpleSeg Version: 1.11.1 Command: /home/biocbuild/bbs-3.22-bioc/R/bin/R CMD INSTALL simpleSeg StartedAt: 2025-10-24 15:47:20 -0400 (Fri, 24 Oct 2025) EndedAt: 2025-10-24 15:48:08 -0400 (Fri, 24 Oct 2025) EllapsedTime: 47.6 seconds RetCode: 0 Status: OK