Package: simona Version: 1.8.0 Command: /home/biocbuild/bbs-3.22-bioc/R/bin/R CMD build --keep-empty-dirs --no-resave-data --md5 simona StartedAt: 2025-10-31 20:16:32 -0400 (Fri, 31 Oct 2025) EndedAt: 2025-10-31 20:17:50 -0400 (Fri, 31 Oct 2025) EllapsedTime: 78.1 seconds RetCode: 0 Status: OK PackageFile: simona_1.8.0.tar.gz PackageFileSize: 948.8 KiB