Package: similaRpeak Version: 1.41.0 Command: /home/biocbuild/bbs-3.22-bioc/R/bin/R CMD INSTALL similaRpeak StartedAt: 2025-10-24 15:12:44 -0400 (Fri, 24 Oct 2025) EndedAt: 2025-10-24 15:12:52 -0400 (Fri, 24 Oct 2025) EllapsedTime: 7.9 seconds RetCode: 0 Status: OK