Package: simPIC Version: 1.5.3 Command: /home/biocbuild/bbs-3.22-bioc/R/bin/R CMD check --install=check:simPIC.install-out.txt --library=/home/biocbuild/bbs-3.22-bioc/R/site-library --timings simPIC_1.5.3.tar.gz StartedAt: 2025-10-25 04:12:53 -0400 (Sat, 25 Oct 2025) EndedAt: 2025-10-25 04:19:19 -0400 (Sat, 25 Oct 2025) EllapsedTime: 386.4 seconds RetCode: 0 Status: OK CheckDir: simPIC.Rcheck Warnings: 0