Package: simPIC Version: 1.5.3 Command: /home/biocbuild/bbs-3.22-bioc/R/bin/R CMD build --keep-empty-dirs --no-resave-data --md5 simPIC StartedAt: 2025-10-24 20:14:54 -0400 (Fri, 24 Oct 2025) EndedAt: 2025-10-24 20:17:15 -0400 (Fri, 24 Oct 2025) EllapsedTime: 141.1 seconds RetCode: 0 Status: OK PackageFile: simPIC_1.5.3.tar.gz PackageFileSize: 5.228 MiB