Package: simPIC Version: 1.5.3 Command: /Library/Frameworks/R.framework/Resources/bin/R CMD INSTALL simPIC StartedAt: 2025-10-24 15:32:37 -0400 (Fri, 24 Oct 2025) EndedAt: 2025-10-24 15:33:11 -0400 (Fri, 24 Oct 2025) EllapsedTime: 34.1 seconds RetCode: 0 Status: OK