Package: simPIC Version: 1.5.3 Command: /Library/Frameworks/R.framework/Resources/bin/R CMD build --keep-empty-dirs --no-resave-data simPIC StartedAt: 2025-10-24 18:48:42 -0400 (Fri, 24 Oct 2025) EndedAt: 2025-10-24 18:51:18 -0400 (Fri, 24 Oct 2025) EllapsedTime: 156.2 seconds RetCode: 0 Status: OK PackageFile: simPIC_1.5.3.tar.gz PackageFileSize: 5.309 MiB