Package: simPIC Version: 1.5.3 Command: /Library/Frameworks/R.framework/Resources/bin/R CMD INSTALL simPIC StartedAt: 2025-10-26 15:13:21 -0400 (Sun, 26 Oct 2025) EndedAt: 2025-10-26 15:13:30 -0400 (Sun, 26 Oct 2025) EllapsedTime: 9.7 seconds RetCode: 0 Status: OK