Package: signeR Version: 2.11.2 Command: /home/biocbuild/bbs-3.22-bioc/R/bin/R CMD INSTALL signeR StartedAt: 2025-10-24 16:02:12 -0400 (Fri, 24 Oct 2025) EndedAt: 2025-10-24 16:03:36 -0400 (Fri, 24 Oct 2025) EllapsedTime: 83.2 seconds RetCode: 0 Status: OK