Package: signeR Version: 2.11.2 Command: /home/biocbuild/bbs-3.22-bioc/R/bin/R CMD build --keep-empty-dirs --no-resave-data --md5 signeR StartedAt: 2025-10-24 20:13:46 -0400 (Fri, 24 Oct 2025) EndedAt: 2025-10-24 20:18:19 -0400 (Fri, 24 Oct 2025) EllapsedTime: 272.3 seconds RetCode: 0 Status: OK PackageFile: signeR_2.11.2.tar.gz PackageFileSize: 4.213 MiB