Package: sights Version: 1.36.0 Command: /home/biocbuild/bbs-3.22-bioc/R/bin/R CMD INSTALL sights StartedAt: 2025-10-29 21:24:20 -0400 (Wed, 29 Oct 2025) EndedAt: 2025-10-29 21:24:53 -0400 (Wed, 29 Oct 2025) EllapsedTime: 33.3 seconds RetCode: 0 Status: OK