Package: sights Version: 1.35.0 Command: /home/biocbuild/bbs-3.22-bioc/R/bin/R CMD build --keep-empty-dirs --no-resave-data --md5 sights StartedAt: 2025-10-27 20:05:23 -0400 (Mon, 27 Oct 2025) EndedAt: 2025-10-27 20:06:02 -0400 (Mon, 27 Oct 2025) EllapsedTime: 39.0 seconds RetCode: 0 Status: OK PackageFile: sights_1.35.0.tar.gz PackageFileSize: 5.396 MiB